BEGIN:VCALENDAR
VERSION:2.0
PRODID:-//Raleigh County Beekeepers Cooperative Association - ECPv6.15.20//NONSGML v1.0//EN
CALSCALE:GREGORIAN
METHOD:PUBLISH
X-WR-CALNAME:Raleigh County Beekeepers Cooperative Association
X-ORIGINAL-URL:https://www.raleighcountybeekeepers.com
X-WR-CALDESC:Events for Raleigh County Beekeepers Cooperative Association
REFRESH-INTERVAL;VALUE=DURATION:PT1H
X-Robots-Tag:noindex
X-PUBLISHED-TTL:PT1H
BEGIN:VTIMEZONE
TZID:America/New_York
BEGIN:DAYLIGHT
TZOFFSETFROM:-0500
TZOFFSETTO:-0400
TZNAME:EDT
DTSTART:20190310T070000
END:DAYLIGHT
BEGIN:STANDARD
TZOFFSETFROM:-0400
TZOFFSETTO:-0500
TZNAME:EST
DTSTART:20191103T060000
END:STANDARD
BEGIN:DAYLIGHT
TZOFFSETFROM:-0500
TZOFFSETTO:-0400
TZNAME:EDT
DTSTART:20200308T070000
END:DAYLIGHT
BEGIN:STANDARD
TZOFFSETFROM:-0400
TZOFFSETTO:-0500
TZNAME:EST
DTSTART:20201101T060000
END:STANDARD
BEGIN:DAYLIGHT
TZOFFSETFROM:-0500
TZOFFSETTO:-0400
TZNAME:EDT
DTSTART:20210314T070000
END:DAYLIGHT
BEGIN:STANDARD
TZOFFSETFROM:-0400
TZOFFSETTO:-0500
TZNAME:EST
DTSTART:20211107T060000
END:STANDARD
BEGIN:DAYLIGHT
TZOFFSETFROM:-0500
TZOFFSETTO:-0400
TZNAME:EDT
DTSTART:20220313T070000
END:DAYLIGHT
BEGIN:STANDARD
TZOFFSETFROM:-0400
TZOFFSETTO:-0500
TZNAME:EST
DTSTART:20221106T060000
END:STANDARD
END:VTIMEZONE
BEGIN:VEVENT
DTSTART;VALUE=DATE:20211113
DTEND;VALUE=DATE:20211114
DTSTAMP:20260423T120119
CREATED:20220420T173822Z
LAST-MODIFIED:20220420T173822Z
UID:2172-1636761600-1636847999@www.raleighcountybeekeepers.com
SUMMARY:WVBA Virtual Fall Conference
DESCRIPTION:WVBA Fall Conference – Virtual \nhttps://www.wvbeekeepers.org/ \n 
URL:https://www.raleighcountybeekeepers.com/event/wvba-virtual-fall-conference/
LOCATION:WV
END:VEVENT
BEGIN:VEVENT
DTSTART;TZID=America/New_York:20211021T180000
DTEND;TZID=America/New_York:20211021T200000
DTSTAMP:20260423T120119
CREATED:20220420T173934Z
LAST-MODIFIED:20220420T173934Z
UID:2174-1634839200-1634846400@www.raleighcountybeekeepers.com
SUMMARY:RCBCA Monthly Meeting - Virtual Only
DESCRIPTION:See email for login details. \n  \nIf you are not a member and would like to attend our meeting\, please email raleighcobees@gmail.com. \n  \nEach month we meet at the Central Office of the Raleigh County Board of Education. These educational sessions and association meetings occur on the 3rd Thursday of each month at 6:00 p.m. \nPlease join us as we discuss the care and raising of bees and current apiculture management techniques. \n  \nRaleigh County Board of Education – 105 Adair Street\, Beckley WV 25801
URL:https://www.raleighcountybeekeepers.com/event/rcbca-monthly-meeting-virtual-only/
LOCATION:Raleigh County Board of Education\, 105 Adair Street\, Beckley\, WV\, 25801\, United States
END:VEVENT
BEGIN:VEVENT
DTSTART;VALUE=DATE:20211001
DTEND;VALUE=DATE:20211003
DTSTAMP:20260423T120119
CREATED:20220420T125305Z
LAST-MODIFIED:20220420T125305Z
UID:2150-1633046400-1633219199@www.raleighcountybeekeepers.com
SUMMARY:WVBA 2021 Fall Conference
DESCRIPTION:WVBA Fall Conference \nhttps://www.wvbeekeepers.org/ \n 
URL:https://www.raleighcountybeekeepers.com/event/wvba-2021-fall-conference/
LOCATION:Robert H Mollohan Research Center\, Fairmont\, West Virginia
END:VEVENT
BEGIN:VEVENT
DTSTART;TZID=America/New_York:20210916T180000
DTEND;TZID=America/New_York:20210916T200000
DTSTAMP:20260423T120119
CREATED:20220420T173659Z
LAST-MODIFIED:20220420T173659Z
UID:2170-1631815200-1631822400@www.raleighcountybeekeepers.com
SUMMARY:RCBCA Monthly Meeting (Virtual Option Available)
DESCRIPTION:The meeting for September will be in person but with a virtual option available. See email for login details. \n  \nIf you are not a member and would like to attend our meeting\, please email raleighcobees@gmail.com. \n*The meeting this month will held outdoors beside the Raleigh County Board of Education at New River Park at the large shelter. \nEach month we meet at the Central Office of the Raleigh County Board of Education. These educational sessions and association meetings occur on the 3rd Thursday of each month at 6:00 p.m. \nPlease join us as we discuss the care and raising of bees and current apiculture management techniques. \n  \nRaleigh County Board of Education – 105 Adair Street\, Beckley WV 25801
URL:https://www.raleighcountybeekeepers.com/event/rcbca-monthly-meeting-virtual-option-available-6/
LOCATION:Raleigh County Board of Education\, 105 Adair Street\, Beckley\, WV\, 25801\, United States
END:VEVENT
BEGIN:VEVENT
DTSTART;TZID=America/New_York:20210821T100000
DTEND;TZID=America/New_York:20210821T170000
DTSTAMP:20260423T120119
CREATED:20220420T125508Z
LAST-MODIFIED:20220420T125508Z
UID:2152-1629540000-1629565200@www.raleighcountybeekeepers.com
SUMMARY:Beckley Honey Festival 2021
DESCRIPTION:Experience the Sweet Taste of Beekeeping! \nBring your family & friends for an education fun-filled festival to learn about the importance of bees in Southern West Virginia.
URL:https://www.raleighcountybeekeepers.com/event/beckley-honey-festival-2021/
LOCATION:Beckley Exhibition Coal Mine/Youth Museum\, 513 Ewart Avenue\, Beckley\, WV\, 25801\, United States
END:VEVENT
BEGIN:VEVENT
DTSTART;TZID=America/New_York:20210819T180000
DTEND;TZID=America/New_York:20210819T200000
DTSTAMP:20260423T120119
CREATED:20220420T173511Z
LAST-MODIFIED:20220420T173511Z
UID:2168-1629396000-1629403200@www.raleighcountybeekeepers.com
SUMMARY:RCBCA Monthly Meeting (Virtual Option Available)
DESCRIPTION:The meeting for August will be in person but with a virtual option available. See email for login details. \n  \nIf you are not a member and would like to attend our meeting\, please email raleighcobees@gmail.com. \n  \nEach month we meet at the Central Office of the Raleigh County Board of Education. These educational sessions and association meetings occur on the 3rd Thursday of each month at 6:00 p.m. \nPlease join us as we discuss the care and raising of bees and current apiculture management techniques. \n  \nRaleigh County Board of Education – 105 Adair Street\, Beckley WV 25801
URL:https://www.raleighcountybeekeepers.com/event/rcbca-monthly-meeting-virtual-option-available-5/
LOCATION:Raleigh County Board of Education\, 105 Adair Street\, Beckley\, WV\, 25801\, United States
END:VEVENT
BEGIN:VEVENT
DTSTART;TZID=America/New_York:20210807T100000
DTEND;TZID=America/New_York:20210807T130000
DTSTAMP:20260423T120119
CREATED:20220420T130219Z
LAST-MODIFIED:20220420T130219Z
UID:2164-1628330400-1628341200@www.raleighcountybeekeepers.com
SUMMARY:RCS Honey Extraction Center Open
DESCRIPTION:RCS Extraction Center
URL:https://www.raleighcountybeekeepers.com/event/rcs-honey-extraction-center-open-7/
LOCATION:Shady Spring High\, 300 Hinton Road\, Shady Spring\, WV\, 25918
END:VEVENT
BEGIN:VEVENT
DTSTART;TZID=America/New_York:20210806T150000
DTEND;TZID=America/New_York:20210806T180000
DTSTAMP:20260423T120119
CREATED:20220420T130148Z
LAST-MODIFIED:20220420T130148Z
UID:2162-1628262000-1628272800@www.raleighcountybeekeepers.com
SUMMARY:RCS Honey Extraction Center Open
DESCRIPTION:RCS Extraction Center
URL:https://www.raleighcountybeekeepers.com/event/rcs-honey-extraction-center-open-6/
LOCATION:Shady Spring High\, 300 Hinton Road\, Shady Spring\, WV\, 25918
END:VEVENT
BEGIN:VEVENT
DTSTART;TZID=America/New_York:20210805T150000
DTEND;TZID=America/New_York:20210805T180000
DTSTAMP:20260423T120119
CREATED:20220420T173251Z
LAST-MODIFIED:20220420T173251Z
UID:2166-1628175600-1628186400@www.raleighcountybeekeepers.com
SUMMARY:RCS Honey Extraction Center Open
DESCRIPTION:RCS Extraction Center
URL:https://www.raleighcountybeekeepers.com/event/rcs-honey-extraction-center-open-8/
LOCATION:Shady Spring High\, 300 Hinton Road\, Shady Spring\, WV\, 25918
END:VEVENT
BEGIN:VEVENT
DTSTART;TZID=America/New_York:20210715T180000
DTEND;TZID=America/New_York:20210715T200000
DTSTAMP:20260423T120119
CREATED:20220420T125857Z
LAST-MODIFIED:20220420T125857Z
UID:2154-1626372000-1626379200@www.raleighcountybeekeepers.com
SUMMARY:RCBCA Monthly Meeting (Virtual Option Available)
DESCRIPTION:July’s meeting will be in person but with a virtual option available. See email for login details. \n  \nIf you are not a member and would like to attend our meeting\, please email raleighcobees@gmail.com. \n  \nEach month we meet at the Central Office of the Raleigh County Board of Education. These educational sessions and association meetings occur on the 3rd Thursday of each month at 6:00 p.m. \nPlease join us as we discuss the care and raising of bees and current apiculture management techniques. \n  \nRaleigh County Board of Education – 105 Adair Street\, Beckley WV 25801
URL:https://www.raleighcountybeekeepers.com/event/rcbca-monthly-meeting-virtual-option-available-4/
LOCATION:Raleigh County Board of Education\, 105 Adair Street\, Beckley\, WV\, 25801\, United States
END:VEVENT
BEGIN:VEVENT
DTSTART;TZID=America/New_York:20210711T100000
DTEND;TZID=America/New_York:20210711T130000
DTSTAMP:20260423T120119
CREATED:20220420T130114Z
LAST-MODIFIED:20220420T130114Z
UID:2160-1625997600-1626008400@www.raleighcountybeekeepers.com
SUMMARY:RCS Honey Extraction Center Open
DESCRIPTION:RCS Extraction Center
URL:https://www.raleighcountybeekeepers.com/event/rcs-honey-extraction-center-open-5/
LOCATION:Shady Spring High\, 300 Hinton Road\, Shady Spring\, WV\, 25918
END:VEVENT
BEGIN:VEVENT
DTSTART;TZID=America/New_York:20210710T150000
DTEND;TZID=America/New_York:20210710T180000
DTSTAMP:20260423T120119
CREATED:20220420T130032Z
LAST-MODIFIED:20220420T130032Z
UID:2158-1625929200-1625940000@www.raleighcountybeekeepers.com
SUMMARY:RCS Honey Extraction Center Open
DESCRIPTION:RCS Extraction Center
URL:https://www.raleighcountybeekeepers.com/event/rcs-honey-extraction-center-open-4/
LOCATION:Shady Spring High\, 300 Hinton Road\, Shady Spring\, WV\, 25918
END:VEVENT
BEGIN:VEVENT
DTSTART;TZID=America/New_York:20210626T100000
DTEND;TZID=America/New_York:20210626T130000
DTSTAMP:20260423T120119
CREATED:20220420T125956Z
LAST-MODIFIED:20220420T125956Z
UID:2156-1624701600-1624712400@www.raleighcountybeekeepers.com
SUMMARY:RCS Honey Extraction Center Open
DESCRIPTION:RCS Extraction Center
URL:https://www.raleighcountybeekeepers.com/event/rcs-honey-extraction-center-open-3/
LOCATION:Shady Spring High\, 300 Hinton Road\, Shady Spring\, WV\, 25918
END:VEVENT
BEGIN:VEVENT
DTSTART;TZID=America/New_York:20210617T180000
DTEND;TZID=America/New_York:20210617T200000
DTSTAMP:20260423T120119
CREATED:20220420T125142Z
LAST-MODIFIED:20220420T125142Z
UID:2148-1623952800-1623960000@www.raleighcountybeekeepers.com
SUMMARY:RCBCA Monthly Meeting (Virtual Option Available)
DESCRIPTION:June’s meeting will be in person but with a virtual option available. See email for login details. \n  \nIf you are not a member and would like to attend our meeting\, please email raleighcobees@gmail.com. \n  \nEach month we meet at the Central Office of the Raleigh County Board of Education. These educational sessions and association meetings occur on the 3rd Thursday of each month at 6:00 p.m. \nPlease join us as we discuss the care and raising of bees and current apiculture management techniques. \n  \nRaleigh County Board of Education – 105 Adair Street\, Beckley WV 25801
URL:https://www.raleighcountybeekeepers.com/event/rcbca-monthly-meeting-virtual-option-available-3/
LOCATION:Raleigh County Board of Education\, 105 Adair Street\, Beckley\, WV\, 25801\, United States
END:VEVENT
BEGIN:VEVENT
DTSTART;TZID=America/New_York:20210522T110000
DTEND;TZID=America/New_York:20210522T140000
DTSTAMP:20260423T120119
CREATED:20210208T201425Z
LAST-MODIFIED:20210208T201425Z
UID:1889-1621681200-1621692000@www.raleighcountybeekeepers.com
SUMMARY:RCBCA Queen Rearing Class Day 2
DESCRIPTION:Please click the link below for more information and to register for the upcoming class May 21-22\, 2021. \nRaleigh County Beekeepers Cooperative Association Queen Rearing Class Registration
URL:https://www.raleighcountybeekeepers.com/event/rcbca-queen-rearing-class-day-2/
LOCATION:Peter’s Farm
END:VEVENT
BEGIN:VEVENT
DTSTART;TZID=America/New_York:20210521T180000
DTEND;TZID=America/New_York:20210521T180000
DTSTAMP:20260423T120119
CREATED:20210208T201301Z
LAST-MODIFIED:20210208T201301Z
UID:1887-1621620000-1621620000@www.raleighcountybeekeepers.com
SUMMARY:RCBCA Queen Rearing Class Day 1
DESCRIPTION:Please click the link below for more information and to register for the upcoming class May 21-22\, 2021. \nRaleigh County Beekeepers Cooperative Association Queen Rearing Class Registration
URL:https://www.raleighcountybeekeepers.com/event/rcbca-queen-rearing-class-day-1/
LOCATION:Raleigh County Board of Education\, 105 Adair Street\, Beckley\, WV\, 25801\, United States
END:VEVENT
BEGIN:VEVENT
DTSTART;TZID=America/New_York:20210520T180000
DTEND;TZID=America/New_York:20210520T200000
DTSTAMP:20260423T120119
CREATED:20220420T125033Z
LAST-MODIFIED:20220420T125033Z
UID:2146-1621533600-1621540800@www.raleighcountybeekeepers.com
SUMMARY:RCBCA Monthly Meeting (Virtual Option Available)
DESCRIPTION:May’s meeting will be in person but with a virtual option available. See email for login details. \n  \nIf you are not a member and would like to attend our meeting\, please email raleighcobees@gmail.com. \n  \nEach month we meet at the Central Office of the Raleigh County Board of Education. These educational sessions and association meetings occur on the 3rd Thursday of each month at 6:00 p.m. \nPlease join us as we discuss the care and raising of bees and current apiculture management techniques. \n  \nRaleigh County Board of Education – 105 Adair Street\, Beckley WV 25801
URL:https://www.raleighcountybeekeepers.com/event/rcbca-monthly-meeting-virtual-option-available-2/
LOCATION:Raleigh County Board of Education\, 105 Adair Street\, Beckley\, WV\, 25801\, United States
END:VEVENT
BEGIN:VEVENT
DTSTART;TZID=America/New_York:20210415T180000
DTEND;TZID=America/New_York:20210415T200000
DTSTAMP:20260423T120119
CREATED:20220420T124848Z
LAST-MODIFIED:20220420T124848Z
UID:2144-1618509600-1618516800@www.raleighcountybeekeepers.com
SUMMARY:RCBCA Monthly Meeting (Virtual Option Available)
DESCRIPTION:April’s meeting will be in person but with a virtual option available. See email for login details. \n  \nIf you are not a member and would like to attend our meeting\, please email raleighcobees@gmail.com. \n  \nEach month we meet at the Central Office of the Raleigh County Board of Education. These educational sessions and association meetings occur on the 3rd Thursday of each month at 6:00 p.m. \nPlease join us as we discuss the care and raising of bees and current apiculture management techniques. \n  \nRaleigh County Board of Education – 105 Adair Street\, Beckley WV 25801
URL:https://www.raleighcountybeekeepers.com/event/rcbca-monthly-meeting-virtual-option-available/
LOCATION:Raleigh County Board of Education\, 105 Adair Street\, Beckley\, WV\, 25801\, United States
END:VEVENT
BEGIN:VEVENT
DTSTART;TZID=America/New_York:20210318T180000
DTEND;TZID=America/New_York:20210318T200000
DTSTAMP:20260423T120119
CREATED:20210208T201611Z
LAST-MODIFIED:20210208T201611Z
UID:1891-1616090400-1616097600@www.raleighcountybeekeepers.com
SUMMARY:RCBCA Monthly Meeting (Virtual)
DESCRIPTION:March’s meeting will be virtual. See email for login details. \n  \nIf you are not a member and would like to attend our meeting\, please email raleighcobees@gmail.com. \n  \nEach month we meet at the Central Office of the Raleigh County Board of Education. These educational sessions and association meetings occur on the 3rd Thursday of each month at 6:30 p.m. \nPlease join us as we discuss the care and raising of bees and current apiculture management techniques. \n  \nRaleigh County Board of Education – 105 Adair Street\, Beckley WV 25801
URL:https://www.raleighcountybeekeepers.com/event/rcbca-monthly-meeting-virtual-3/
LOCATION:WV
END:VEVENT
BEGIN:VEVENT
DTSTART;TZID=America/New_York:20210227T083000
DTEND;TZID=America/New_York:20210227T153000
DTSTAMP:20260423T120119
CREATED:20210208T200208Z
LAST-MODIFIED:20210208T200208Z
UID:1883-1614414600-1614439800@www.raleighcountybeekeepers.com
SUMMARY:RCBCA Novice/Beginner Class
DESCRIPTION:Please click the link below for more information and to register for the upcoming Novice/Beginner’s Class. \nNovice/Beginner Class – February 27
URL:https://www.raleighcountybeekeepers.com/event/rcbca-novice-beginner-class/
LOCATION:WV
END:VEVENT
BEGIN:VEVENT
DTSTART;TZID=America/New_York:20210220T083000
DTEND;TZID=America/New_York:20210220T153000
DTSTAMP:20260423T120119
CREATED:20210208T200656Z
LAST-MODIFIED:20210208T200656Z
UID:1885-1613809800-1613835000@www.raleighcountybeekeepers.com
SUMMARY:RCBCA Intermediate/Advanced Class
DESCRIPTION:Please click the link below for more information and to register for the upcoming Intermediate/Advanced Class on February 20\, 2021. \nRaleigh County Beekeepers Cooperative Association Class Registration
URL:https://www.raleighcountybeekeepers.com/event/rcbca-intermediate-advanced-class/
LOCATION:WV
END:VEVENT
BEGIN:VEVENT
DTSTART;TZID=America/New_York:20210218T180000
DTEND;TZID=America/New_York:20210218T200000
DTSTAMP:20260423T120119
CREATED:20210208T195823Z
LAST-MODIFIED:20210208T195823Z
UID:1881-1613671200-1613678400@www.raleighcountybeekeepers.com
SUMMARY:RCBCA Monthly Meeting (Virtual)
DESCRIPTION:February’s meeting will be virtual. See email for login details. \n  \nIf you are not a member and would like to attend our meeting\, please email raleighcobees@gmail.com. \n  \nEach month we meet at the Central Office of the Raleigh County Board of Education. These educational sessions and association meetings occur on the 3rd Thursday of each month at 6:30 p.m. \nPlease join us as we discuss the care and raising of bees and current apiculture management techniques. \n  \nRaleigh County Board of Education – 105 Adair Street\, Beckley WV 25801
URL:https://www.raleighcountybeekeepers.com/event/rcbca-monthly-meeting-virtual-2/
LOCATION:WV
END:VEVENT
BEGIN:VEVENT
DTSTART;VALUE=DATE:20210130
DTEND;VALUE=DATE:20210131
DTSTAMP:20260423T120119
CREATED:20200630T165556Z
LAST-MODIFIED:20200630T165556Z
UID:1583-1611964800-1612051199@www.raleighcountybeekeepers.com
SUMMARY:Honeybee Expo - Mid-Ohio Valley Beekeepers' Association
DESCRIPTION:The Mid Ohio Valley Beekeepers’ Association\, in conjunction with the West Virginia Extension Services\, will present the 19th annual Honey Bee Expo on Saturday\, January 30th\, 2021\, on the Campus of WVU Parkersburg. Check out the website for more information. http://movba.org/
URL:https://www.raleighcountybeekeepers.com/event/honeybee-expo-mid-ohio-valley-beekeepers-association/
LOCATION:WV
END:VEVENT
BEGIN:VEVENT
DTSTART;TZID=America/New_York:20210121T180000
DTEND;TZID=America/New_York:20210121T200000
DTSTAMP:20260423T120119
CREATED:20210208T195706Z
LAST-MODIFIED:20210208T195706Z
UID:1879-1611252000-1611259200@www.raleighcountybeekeepers.com
SUMMARY:RCBCA Monthly Meeting (Virtual)
DESCRIPTION:January’s meeting will be virtual. See email for login details. \n  \nIf you are not a member and would like to attend our meeting\, please email raleighcobees@gmail.com. \n  \nEach month we meet at the Central Office of the Raleigh County Board of Education. These educational sessions and association meetings occur on the 3rd Thursday of each month at 6:30 p.m. \nPlease join us as we discuss the care and raising of bees and current apiculture management techniques. \n  \nRaleigh County Board of Education – 105 Adair Street\, Beckley WV 25801
URL:https://www.raleighcountybeekeepers.com/event/rcbca-monthly-meeting-virtual/
LOCATION:WV
END:VEVENT
BEGIN:VEVENT
DTSTART;TZID=America/New_York:20201217T183000
DTEND;TZID=America/New_York:20201217T200000
DTSTAMP:20260423T120119
CREATED:20200630T170059Z
LAST-MODIFIED:20200630T170059Z
UID:1589-1608229800-1608235200@www.raleighcountybeekeepers.com
SUMMARY:RCBCA Monthly Meeting
DESCRIPTION:Each month we meet at the Central Office of the Raleigh County Board of Education. These educational sessions and association meetings occur on the 3rd Thursday of each month at 6:30 p.m. \nPlease join us as we discuss the care and raising of bees and current apiculture management techniques. \n  \nRaleigh County Board of Education – 105 Adair Street\, Beckley WV 25801
URL:https://www.raleighcountybeekeepers.com/event/rcbca-monthly-meeting-19/
LOCATION:Raleigh County Board of Education\, 105 Adair Street\, Beckley\, WV\, 25801\, United States
END:VEVENT
BEGIN:VEVENT
DTSTART;TZID=America/New_York:20201119T183000
DTEND;TZID=America/New_York:20201119T200000
DTSTAMP:20260423T120119
CREATED:20200630T165935Z
LAST-MODIFIED:20200630T165935Z
UID:1587-1605810600-1605816000@www.raleighcountybeekeepers.com
SUMMARY:RCBCA Monthly Meeting
DESCRIPTION:Each month we meet at the Central Office of the Raleigh County Board of Education. These educational sessions and association meetings occur on the 3rd Thursday of each month at 6:30 p.m. \nPlease join us as we discuss the care and raising of bees and current apiculture management techniques. \n  \nRaleigh County Board of Education – 105 Adair Street\, Beckley WV 25801
URL:https://www.raleighcountybeekeepers.com/event/rcbca-monthly-meeting-18/
LOCATION:Raleigh County Board of Education\, 105 Adair Street\, Beckley\, WV\, 25801\, United States
END:VEVENT
BEGIN:VEVENT
DTSTART;TZID=America/New_York:20201015T183000
DTEND;TZID=America/New_York:20201015T200000
DTSTAMP:20260423T120119
CREATED:20200630T165835Z
LAST-MODIFIED:20200630T165835Z
UID:1585-1602786600-1602792000@www.raleighcountybeekeepers.com
SUMMARY:RCBCA Monthly Meeting
DESCRIPTION:Each month we meet at the Central Office of the Raleigh County Board of Education. These educational sessions and association meetings occur on the 3rd Thursday of each month at 6:30 p.m. \nPlease join us as we discuss the care and raising of bees and current apiculture management techniques. \n  \nRaleigh County Board of Education – 105 Adair Street\, Beckley WV 25801
URL:https://www.raleighcountybeekeepers.com/event/rcbca-monthly-meeting-17/
LOCATION:Raleigh County Board of Education\, 105 Adair Street\, Beckley\, WV\, 25801\, United States
END:VEVENT
BEGIN:VEVENT
DTSTART;VALUE=DATE:20201002
DTEND;VALUE=DATE:20201004
DTSTAMP:20260423T120119
CREATED:20200630T171828Z
LAST-MODIFIED:20200630T171828Z
UID:1591-1601596800-1601769599@www.raleighcountybeekeepers.com
SUMMARY:WVBA 2020 Fall Conference
DESCRIPTION:WVBA Fall Conference \nhttps://www.wvbeekeepers.org/ \n 
URL:https://www.raleighcountybeekeepers.com/event/wvba-2020-fall-conference/
LOCATION:Robert H Mollohan Research Center\, Fairmont\, West Virginia
END:VEVENT
BEGIN:VEVENT
DTSTART;TZID=America/New_York:20200917T183000
DTEND;TZID=America/New_York:20200917T200000
DTSTAMP:20260423T120119
CREATED:20200630T165129Z
LAST-MODIFIED:20200630T165129Z
UID:1581-1600367400-1600372800@www.raleighcountybeekeepers.com
SUMMARY:RCBCA Monthly Meeting
DESCRIPTION:Each month we meet at the Central Office of the Raleigh County Board of Education. These educational sessions and association meetings occur on the 3rd Thursday of each month at 6:30 p.m. \nPlease join us as we discuss the care and raising of bees and current apiculture management techniques. \n  \nRaleigh County Board of Education – 105 Adair Street\, Beckley WV 25801
URL:https://www.raleighcountybeekeepers.com/event/rcbca-monthly-meeting-16/
LOCATION:Raleigh County Board of Education\, 105 Adair Street\, Beckley\, WV\, 25801\, United States
END:VEVENT
BEGIN:VEVENT
DTSTART;TZID=America/New_York:20200820T183000
DTEND;TZID=America/New_York:20200820T200000
DTSTAMP:20260423T120119
CREATED:20200630T165025Z
LAST-MODIFIED:20200630T165025Z
UID:1579-1597948200-1597953600@www.raleighcountybeekeepers.com
SUMMARY:RCBCA Monthly Meeting
DESCRIPTION:Each month we meet at the Central Office of the Raleigh County Board of Education. These educational sessions and association meetings occur on the 3rd Thursday of each month at 6:30 p.m. \nPlease join us as we discuss the care and raising of bees and current apiculture management techniques. \n  \nRaleigh County Board of Education – 105 Adair Street\, Beckley WV 25801
URL:https://www.raleighcountybeekeepers.com/event/rcbca-monthly-meeting-15/
LOCATION:Raleigh County Board of Education\, 105 Adair Street\, Beckley\, WV\, 25801\, United States
END:VEVENT
END:VCALENDAR