BEGIN:VCALENDAR
VERSION:2.0
PRODID:-//Raleigh County Beekeepers Cooperative Association - ECPv6.15.20//NONSGML v1.0//EN
CALSCALE:GREGORIAN
METHOD:PUBLISH
X-ORIGINAL-URL:https://www.raleighcountybeekeepers.com
X-WR-CALDESC:Events for Raleigh County Beekeepers Cooperative Association
REFRESH-INTERVAL;VALUE=DURATION:PT1H
X-Robots-Tag:noindex
X-PUBLISHED-TTL:PT1H
BEGIN:VTIMEZONE
TZID:UTC
BEGIN:STANDARD
TZOFFSETFROM:+0000
TZOFFSETTO:+0000
TZNAME:UTC
DTSTART:20160101T000000
END:STANDARD
END:VTIMEZONE
BEGIN:VEVENT
DTSTART;TZID=UTC:20170921T183000
DTEND;TZID=UTC:20170921T200000
DTSTAMP:20260424T042552
CREATED:20170615T163742Z
LAST-MODIFIED:20170615T163742Z
UID:555-1506018600-1506024000@www.raleighcountybeekeepers.com
SUMMARY:RCBCA Monthly Meeting
DESCRIPTION:
URL:https://www.raleighcountybeekeepers.com/event/rcbca-monthly-meeting-4-2/
LOCATION:Raleigh County Board of Education\, 105 Adair Street\, Beckley\, WV\, 25801\, United States
END:VEVENT
BEGIN:VEVENT
DTSTART;TZID=UTC:20170819T080000
DTEND;TZID=UTC:20170819T170000
DTSTAMP:20260424T042552
CREATED:20170516T182620Z
LAST-MODIFIED:20170516T182620Z
UID:507-1503129600-1503162000@www.raleighcountybeekeepers.com
SUMMARY:Beckley Honey Festival 2017
DESCRIPTION:The Raleigh County Beekeepers Cooperative Association and the Beckley Exhibition Coal Mine/Youth Museum will be working together on an event for National Honey Bee Day. \nThe Beckley Honey Festival will take place on the third Saturday in August on an annual basis and will be on August 19\, 2017 at the Beckley Exhibition Coal Mine. \nThere will be live honey bee demonstrations\, display tents\, equipment and demonstration hives\, youth activities and area vendors along with the Beckley Exhibition Coal Mine/Youth Museum.
URL:https://www.raleighcountybeekeepers.com/event/beckley-honey-festival-2017/
LOCATION:Beckley Exhibition Coal Mine/Youth Museum\, 513 Ewart Avenue\, Beckley\, WV\, 25801\, United States
END:VEVENT
BEGIN:VEVENT
DTSTART;TZID=UTC:20170817T183000
DTEND;TZID=UTC:20170817T200000
DTSTAMP:20260424T042552
CREATED:20170516T182152Z
LAST-MODIFIED:20170516T182152Z
UID:505-1502994600-1503000000@www.raleighcountybeekeepers.com
SUMMARY:RCBCA Monthly Meeting
DESCRIPTION:
URL:https://www.raleighcountybeekeepers.com/event/rcbca-monthly-meeting-4/
LOCATION:Raleigh County Board of Education\, 105 Adair Street\, Beckley\, WV\, 25801\, United States
END:VEVENT
BEGIN:VEVENT
DTSTART;TZID=UTC:20170810T173000
DTEND;TZID=UTC:20170810T193000
DTSTAMP:20260424T042552
CREATED:20170615T190526Z
LAST-MODIFIED:20170615T190526Z
UID:566-1502386200-1502393400@www.raleighcountybeekeepers.com
SUMMARY:RCBCA Steering Committee Meeting (Beckley Honey Festival 2017)
DESCRIPTION:
URL:https://www.raleighcountybeekeepers.com/event/steering-committee-meeting-beckley-honey-festival-2017-3/
LOCATION:Raleigh County Board of Education\, 105 Adair Street\, Beckley\, WV\, 25801\, United States
END:VEVENT
BEGIN:VEVENT
DTSTART;TZID=UTC:20170720T183000
DTEND;TZID=UTC:20170720T200000
DTSTAMP:20260424T042552
CREATED:20170516T181618Z
LAST-MODIFIED:20170516T181618Z
UID:503-1500575400-1500580800@www.raleighcountybeekeepers.com
SUMMARY:RCBCA Monthly Meeting
DESCRIPTION:
URL:https://www.raleighcountybeekeepers.com/event/rcbca-monthly-meeting-3/
LOCATION:Raleigh County Board of Education\, 105 Adair Street\, Beckley\, WV\, 25801\, United States
END:VEVENT
BEGIN:VEVENT
DTSTART;TZID=UTC:20170715T100000
DTEND;TZID=UTC:20170715T140000
DTSTAMP:20260424T042552
CREATED:20170615T030905Z
LAST-MODIFIED:20170615T030905Z
UID:542-1500112800-1500127200@www.raleighcountybeekeepers.com
SUMMARY:Summer Workshop & RCBCA Member Picnic
DESCRIPTION:
URL:https://www.raleighcountybeekeepers.com/event/summer-workshop-rcbca-member-picnic/
LOCATION:Peter’s Farm
END:VEVENT
BEGIN:VEVENT
DTSTART;TZID=UTC:20170713T173000
DTEND;TZID=UTC:20170713T193000
DTSTAMP:20260424T042552
CREATED:20170615T183956Z
LAST-MODIFIED:20170615T184236Z
UID:562-1499967000-1499974200@www.raleighcountybeekeepers.com
SUMMARY:RCBCA Steering Committee Meeting (Beckley Honey Festival 2017)
DESCRIPTION:
URL:https://www.raleighcountybeekeepers.com/event/steering-committee-meeting-beckley-honey-festival-2017-2/
LOCATION:Raleigh County Board of Education\, 105 Adair Street\, Beckley\, WV\, 25801\, United States
END:VEVENT
BEGIN:VEVENT
DTSTART;TZID=UTC:20170622T173000
DTEND;TZID=UTC:20170622T193000
DTSTAMP:20260424T042552
CREATED:20170615T183740Z
LAST-MODIFIED:20170615T184432Z
UID:560-1498152600-1498159800@www.raleighcountybeekeepers.com
SUMMARY:RCBCA Steering Committee Meeting (Beckley Honey Festival 2017)
DESCRIPTION:
URL:https://www.raleighcountybeekeepers.com/event/steering-committee-meeting-beckley-honey-festival-2017/
LOCATION:Raleigh County Board of Education\, 105 Adair Street\, Beckley\, WV\, 25801\, United States
END:VEVENT
BEGIN:VEVENT
DTSTART;TZID=UTC:20170615T183000
DTEND;TZID=UTC:20170615T200000
DTSTAMP:20260424T042552
CREATED:20170516T181408Z
LAST-MODIFIED:20170516T181408Z
UID:501-1497551400-1497556800@www.raleighcountybeekeepers.com
SUMMARY:RCBCA Monthly Meeting
DESCRIPTION:
URL:https://www.raleighcountybeekeepers.com/event/rcbca-monthly-meeting-2/
LOCATION:Raleigh County Board of Education\, 105 Adair Street\, Beckley\, WV\, 25801\, United States
END:VEVENT
BEGIN:VEVENT
DTSTART;TZID=UTC:20170610T100000
DTEND;TZID=UTC:20170610T120000
DTSTAMP:20260424T042552
CREATED:20170615T212336Z
LAST-MODIFIED:20170615T221529Z
UID:609-1497088800-1497096000@www.raleighcountybeekeepers.com
SUMMARY:Appalachian Beekeeping Collective Open Hive Demonstration
DESCRIPTION:
URL:https://www.raleighcountybeekeepers.com/event/open-hive-demonstration/
LOCATION:Camp Lightfoot
END:VEVENT
BEGIN:VEVENT
DTSTART;TZID=UTC:20170603T080000
DTEND;TZID=UTC:20170603T170000
DTSTAMP:20260424T042552
CREATED:20170519T022937Z
LAST-MODIFIED:20170519T022937Z
UID:521-1496476800-1496509200@www.raleighcountybeekeepers.com
SUMMARY:West Virginia Beekeepers Association Executive Board Meeting
DESCRIPTION:
URL:https://www.raleighcountybeekeepers.com/event/west-virginia-beekeepers-association-executive-board-meeting/
LOCATION:WV
END:VEVENT
BEGIN:VEVENT
DTSTART;TZID=UTC:20170518T183000
DTEND;TZID=UTC:20170518T200000
DTSTAMP:20260424T042552
CREATED:20170515T051631Z
LAST-MODIFIED:20170515T051631Z
UID:448-1495132200-1495137600@www.raleighcountybeekeepers.com
SUMMARY:RCBCA Monthly Meeting
DESCRIPTION:
URL:https://www.raleighcountybeekeepers.com/event/rcbca-monthly-meeting/
LOCATION:Raleigh County Board of Education\, 105 Adair Street\, Beckley\, WV\, 25801\, United States
END:VEVENT
END:VCALENDAR