BEGIN:VCALENDAR
VERSION:2.0
PRODID:-//Raleigh County Beekeepers Cooperative Association - ECPv6.15.20//NONSGML v1.0//EN
CALSCALE:GREGORIAN
METHOD:PUBLISH
X-WR-CALNAME:Raleigh County Beekeepers Cooperative Association
X-ORIGINAL-URL:https://www.raleighcountybeekeepers.com
X-WR-CALDESC:Events for Raleigh County Beekeepers Cooperative Association
REFRESH-INTERVAL;VALUE=DURATION:PT1H
X-Robots-Tag:noindex
X-PUBLISHED-TTL:PT1H
BEGIN:VTIMEZONE
TZID:America/New_York
BEGIN:DAYLIGHT
TZOFFSETFROM:-0500
TZOFFSETTO:-0400
TZNAME:EDT
DTSTART:20180311T070000
END:DAYLIGHT
BEGIN:STANDARD
TZOFFSETFROM:-0400
TZOFFSETTO:-0500
TZNAME:EST
DTSTART:20181104T060000
END:STANDARD
BEGIN:DAYLIGHT
TZOFFSETFROM:-0500
TZOFFSETTO:-0400
TZNAME:EDT
DTSTART:20190310T070000
END:DAYLIGHT
BEGIN:STANDARD
TZOFFSETFROM:-0400
TZOFFSETTO:-0500
TZNAME:EST
DTSTART:20191103T060000
END:STANDARD
BEGIN:DAYLIGHT
TZOFFSETFROM:-0500
TZOFFSETTO:-0400
TZNAME:EDT
DTSTART:20200308T070000
END:DAYLIGHT
BEGIN:STANDARD
TZOFFSETFROM:-0400
TZOFFSETTO:-0500
TZNAME:EST
DTSTART:20201101T060000
END:STANDARD
BEGIN:DAYLIGHT
TZOFFSETFROM:-0500
TZOFFSETTO:-0400
TZNAME:EDT
DTSTART:20210314T070000
END:DAYLIGHT
BEGIN:STANDARD
TZOFFSETFROM:-0400
TZOFFSETTO:-0500
TZNAME:EST
DTSTART:20211107T060000
END:STANDARD
END:VTIMEZONE
BEGIN:VTIMEZONE
TZID:UTC
BEGIN:STANDARD
TZOFFSETFROM:+0000
TZOFFSETTO:+0000
TZNAME:UTC
DTSTART:20170101T000000
END:STANDARD
END:VTIMEZONE
BEGIN:VEVENT
DTSTART;TZID=America/New_York:20200125T073000
DTEND;TZID=America/New_York:20200125T170000
DTSTAMP:20260423T191622
CREATED:20200114T212439Z
LAST-MODIFIED:20200114T212439Z
UID:1461-1579937400-1579971600@www.raleighcountybeekeepers.com
SUMMARY:Honey Bee Expo - 2020
DESCRIPTION:The Mid Ohio Valley Beekeepers’ Association\, in conjunction with the West Virginia Extension Services\, presents the 18th annual Honey Bee Expo to be held Saturday\, January 25th\, 2020\, on the Campus of WVU Parkersburg\, in Parkersburg\, WV. \nCheck out the website for more info – https://movba.org/index.php/2019-expo/ \n 
URL:https://www.raleighcountybeekeepers.com/event/honey-bee-expo-2020/
LOCATION:WV
END:VEVENT
BEGIN:VEVENT
DTSTART;TZID=America/New_York:20200116T183000
DTEND;TZID=America/New_York:20200116T200000
DTSTAMP:20260423T191622
CREATED:20200114T212007Z
LAST-MODIFIED:20200114T212007Z
UID:1457-1579199400-1579204800@www.raleighcountybeekeepers.com
SUMMARY:RCBCA Monthly Meeting
DESCRIPTION:Each month we meet at the Central Office of the Raleigh County Board of Education. These educational sessions and association meetings occur on the 3rd Thursday of each month at 6:30 p.m. \nPlease join us as we discuss the care and raising of bees and current apiculture management techniques. \n  \nRaleigh County Board of Education – 105 Adair Street\, Beckley WV 25801
URL:https://www.raleighcountybeekeepers.com/event/rcbca-monthly-meeting-9/
LOCATION:WV
END:VEVENT
BEGIN:VEVENT
DTSTART;TZID=America/New_York:20191219T183000
DTEND;TZID=America/New_York:20191219T200000
DTSTAMP:20260423T191622
CREATED:20200706T123305Z
LAST-MODIFIED:20200706T123305Z
UID:1613-1576780200-1576785600@www.raleighcountybeekeepers.com
SUMMARY:RCBCA Monthly Meeting
DESCRIPTION:Each month we meet at the Central Office of the Raleigh County Board of Education. These educational sessions and association meetings occur on the 3rd Thursday of each month at 6:30 p.m. \nPlease join us as we discuss the care and raising of bees and current apiculture management techniques. \n  \nRaleigh County Board of Education – 105 Adair Street\, Beckley WV 25801
URL:https://www.raleighcountybeekeepers.com/event/rcbca-monthly-meeting-24/
LOCATION:Raleigh County Board of Education\, 105 Adair Street\, Beckley\, WV\, 25801\, United States
END:VEVENT
BEGIN:VEVENT
DTSTART;TZID=America/New_York:20191114T183000
DTEND;TZID=America/New_York:20191114T200000
DTSTAMP:20260423T191622
CREATED:20200706T123204Z
LAST-MODIFIED:20200706T133603Z
UID:1611-1573756200-1573761600@www.raleighcountybeekeepers.com
SUMMARY:RCBCA Monthly Meeting
DESCRIPTION:Each month we meet at the Central Office of the Raleigh County Board of Education. These educational sessions and association meetings occur on the 3rd Thursday of each month at 6:30 p.m. \nPlease join us as we discuss the care and raising of bees and current apiculture management techniques. \n  \nRaleigh County Board of Education – 105 Adair Street\, Beckley WV 25801
URL:https://www.raleighcountybeekeepers.com/event/rcbca-monthly-meeting-23/
LOCATION:Raleigh County Board of Education\, 105 Adair Street\, Beckley\, WV\, 25801\, United States
END:VEVENT
BEGIN:VEVENT
DTSTART;TZID=America/New_York:20191017T183000
DTEND;TZID=America/New_York:20191017T200000
DTSTAMP:20260423T191622
CREATED:20200706T120933Z
LAST-MODIFIED:20200706T134530Z
UID:1607-1571337000-1571342400@www.raleighcountybeekeepers.com
SUMMARY:RCBCA Monthly Meeting
DESCRIPTION:Each month we meet at the Central Office of the Raleigh County Board of Education. These educational sessions and association meetings occur on the 3rd Thursday of each month at 6:30 p.m. \nPlease join us as we discuss the care and raising of bees and current apiculture management techniques. \n  \nRaleigh County Board of Education – 105 Adair Street\, Beckley WV 25801
URL:https://www.raleighcountybeekeepers.com/event/rcbca-monthly-meeting-22/
LOCATION:Raleigh County Board of Education\, 105 Adair Street\, Beckley\, WV\, 25801\, United States
END:VEVENT
BEGIN:VEVENT
DTSTART;TZID=America/New_York:20190919T183000
DTEND;TZID=America/New_York:20190919T200000
DTSTAMP:20260423T191622
CREATED:20200706T120728Z
LAST-MODIFIED:20200706T134832Z
UID:1605-1568917800-1568923200@www.raleighcountybeekeepers.com
SUMMARY:RCBCA Monthly Meeting
DESCRIPTION:Each month we meet at the Central Office of the Raleigh County Board of Education. These educational sessions and association meetings occur on the 3rd Thursday of each month at 6:30 p.m. \nPlease join us as we discuss the care and raising of bees and current apiculture management techniques. \n  \nRaleigh County Board of Education – 105 Adair Street\, Beckley WV 25801
URL:https://www.raleighcountybeekeepers.com/event/rcbca-monthly-meeting-21/
LOCATION:Raleigh County Board of Education\, 105 Adair Street\, Beckley\, WV\, 25801\, United States
END:VEVENT
BEGIN:VEVENT
DTSTART;TZID=America/New_York:20190817T100000
DTEND;TZID=America/New_York:20190817T170000
DTSTAMP:20260423T191622
CREATED:20200706T121418Z
LAST-MODIFIED:20200706T121418Z
UID:1609-1566036000-1566061200@www.raleighcountybeekeepers.com
SUMMARY:Beckley Honey Festival 2019
DESCRIPTION:Experience the Sweet Taste of Beekeeping!\nBring your family & friends for an education fun-filled festival to learn about the importance of bees in Southern West Virginia. \n \n  \n \n  \nLive Music featuring Long Point String Band \nHoney Inspired Vendors & Local Honey Sales \nFace Painting \nFood Vendors \nLive Hive \nFun For All!
URL:https://www.raleighcountybeekeepers.com/event/beckley-honey-festival-2019/
LOCATION:Beckley Exhibition Coal Mine/Youth Museum\, 513 Ewart Avenue\, Beckley\, WV\, 25801\, United States
END:VEVENT
BEGIN:VEVENT
DTSTART;TZID=America/New_York:20190815T183000
DTEND;TZID=America/New_York:20190815T200000
DTSTAMP:20260423T191622
CREATED:20200706T120623Z
LAST-MODIFIED:20200706T120623Z
UID:1603-1565893800-1565899200@www.raleighcountybeekeepers.com
SUMMARY:RCBCA Monthly Meeting
DESCRIPTION:Each month we meet at the Central Office of the Raleigh County Board of Education. These educational sessions and association meetings occur on the 3rd Thursday of each month at 6:30 p.m. \nPlease join us as we discuss the care and raising of bees and current apiculture management techniques. \n  \nRaleigh County Board of Education – 105 Adair Street\, Beckley WV 25801
URL:https://www.raleighcountybeekeepers.com/event/rcbca-monthly-meeting-20/
LOCATION:Raleigh County Board of Education\, 105 Adair Street\, Beckley\, WV\, 25801\, United States
END:VEVENT
BEGIN:VEVENT
DTSTART;TZID=America/New_York:20190713T103000
DTEND;TZID=America/New_York:20190713T140000
DTSTAMP:20260423T191622
CREATED:20190117T003837Z
LAST-MODIFIED:20190618T143555Z
UID:1236-1563013800-1563026400@www.raleighcountybeekeepers.com
SUMMARY:RCBCA Summer Picnic & Workshop - Late Summer/Fall Feeding\, Hive Evaluation & Treatments
DESCRIPTION:
URL:https://www.raleighcountybeekeepers.com/event/rcbca-monthly-meeting-8-2-2-2-2/
LOCATION:Peter’s Farm
END:VEVENT
BEGIN:VEVENT
DTSTART;TZID=America/New_York:20190622T103000
DTEND;TZID=America/New_York:20190622T140000
DTSTAMP:20260423T191622
CREATED:20190618T173451Z
LAST-MODIFIED:20190618T173451Z
UID:1340-1561199400-1561212000@www.raleighcountybeekeepers.com
SUMMARY:RCBCA Summer Picnic Moved to July 13th
DESCRIPTION:
URL:https://www.raleighcountybeekeepers.com/event/rcbca-monthly-meeting-8-2-2-2-2-2/
LOCATION:Peter’s Farm
END:VEVENT
BEGIN:VEVENT
DTSTART;TZID=UTC:20190620T183000
DTEND;TZID=UTC:20190620T200000
DTSTAMP:20260423T191622
CREATED:20190618T143415Z
LAST-MODIFIED:20190618T143415Z
UID:1336-1561055400-1561060800@www.raleighcountybeekeepers.com
SUMMARY:RCBCA Monthly Meeting
DESCRIPTION:
URL:https://www.raleighcountybeekeepers.com/event/rcbca-monthly-meeting-8-2-3-3-2-2-3-2-2-2-2-2/
LOCATION:Raleigh County Board of Education\, 105 Adair Street\, Beckley\, WV\, 25801\, United States
END:VEVENT
BEGIN:VEVENT
DTSTART;TZID=UTC:20190516T183000
DTEND;TZID=UTC:20190516T200000
DTSTAMP:20260423T191622
CREATED:20190117T002843Z
LAST-MODIFIED:20190117T002843Z
UID:1228-1558031400-1558036800@www.raleighcountybeekeepers.com
SUMMARY:RCBCA Monthly Meeting
DESCRIPTION:
URL:https://www.raleighcountybeekeepers.com/event/rcbca-monthly-meeting-8-2-3-3-2-2-3-2-2-2-2/
LOCATION:Raleigh County Board of Education\, 105 Adair Street\, Beckley\, WV\, 25801\, United States
END:VEVENT
BEGIN:VEVENT
DTSTART;TZID=UTC:20190511T083000
DTEND;TZID=UTC:20190511T153000
DTSTAMP:20260423T191622
CREATED:20190117T003122Z
LAST-MODIFIED:20190117T003122Z
UID:1232-1557563400-1557588600@www.raleighcountybeekeepers.com
SUMMARY:RCBCA Workshop - Raising Your Own Queens
DESCRIPTION:
URL:https://www.raleighcountybeekeepers.com/event/rcbca-workshop-raising-your-own-queens-2/
LOCATION:Raleigh County Board of Education\, 105 Adair Street\, Beckley\, WV\, 25801\, United States
END:VEVENT
BEGIN:VEVENT
DTSTART;TZID=UTC:20190510T170000
DTEND;TZID=UTC:20190510T200000
DTSTAMP:20260423T191622
CREATED:20190117T003016Z
LAST-MODIFIED:20190117T003016Z
UID:1230-1557507600-1557518400@www.raleighcountybeekeepers.com
SUMMARY:RCBCA Workshop - Raising Your Own Queens
DESCRIPTION:
URL:https://www.raleighcountybeekeepers.com/event/rcbca-workshop-raising-your-own-queens/
LOCATION:Raleigh County Board of Education\, 105 Adair Street\, Beckley\, WV\, 25801\, United States
END:VEVENT
BEGIN:VEVENT
DTSTART;TZID=UTC:20190420T100000
DTEND;TZID=UTC:20190420T140000
DTSTAMP:20260423T191622
CREATED:20190117T002438Z
LAST-MODIFIED:20190117T002528Z
UID:1222-1555754400-1555768800@www.raleighcountybeekeepers.com
SUMMARY:RCBCA Workshop
DESCRIPTION:
URL:https://www.raleighcountybeekeepers.com/event/rcbca-monthly-meeting-8-2-2-2/
LOCATION:Peter’s Farm
END:VEVENT
BEGIN:VEVENT
DTSTART;TZID=UTC:20190418T183000
DTEND;TZID=UTC:20190418T200000
DTSTAMP:20260423T191622
CREATED:20190117T002752Z
LAST-MODIFIED:20190117T002752Z
UID:1226-1555612200-1555617600@www.raleighcountybeekeepers.com
SUMMARY:RCBCA Monthly Meeting
DESCRIPTION:
URL:https://www.raleighcountybeekeepers.com/event/rcbca-monthly-meeting-8-2-3-3-2-2-3-2-2-2/
LOCATION:Raleigh County Board of Education\, 105 Adair Street\, Beckley\, WV\, 25801\, United States
END:VEVENT
BEGIN:VEVENT
DTSTART;TZID=UTC:20190321T183000
DTEND;TZID=UTC:20190321T200000
DTSTAMP:20260423T191622
CREATED:20190117T002657Z
LAST-MODIFIED:20190117T002657Z
UID:1224-1553193000-1553198400@www.raleighcountybeekeepers.com
SUMMARY:RCBCA Monthly Meeting
DESCRIPTION:
URL:https://www.raleighcountybeekeepers.com/event/rcbca-monthly-meeting-8-2-3-3-2-2-3-2-2/
LOCATION:Raleigh County Board of Education\, 105 Adair Street\, Beckley\, WV\, 25801\, United States
END:VEVENT
BEGIN:VEVENT
DTSTART;VALUE=DATE:20190315
DTEND;VALUE=DATE:20190317
DTSTAMP:20260423T191622
CREATED:20190206T174348Z
LAST-MODIFIED:20190206T174348Z
UID:1273-1552608000-1552780799@www.raleighcountybeekeepers.com
SUMMARY:WVBA Spring Conference
DESCRIPTION:For more information & to register please visit: \nHome \n \nJust a note – registration forms must be received by February 28th for early registration. \n  \n 
URL:https://www.raleighcountybeekeepers.com/event/wvba-spring-conference/
LOCATION:WV
END:VEVENT
BEGIN:VEVENT
DTSTART;TZID=America/New_York:20190223T083000
DTEND;TZID=America/New_York:20190223T153000
DTSTAMP:20260423T191622
CREATED:20190117T002203Z
LAST-MODIFIED:20190122T005919Z
UID:1219-1550910600-1550935800@www.raleighcountybeekeepers.com
SUMMARY:Intermediate/Advanced Beekeeping Course
DESCRIPTION:
URL:https://www.raleighcountybeekeepers.com/event/intermediate-advanced-beekeeping-course-2-2/
LOCATION:Raleigh County Board of Education\, 105 Adair Street\, Beckley\, WV\, 25801\, United States
END:VEVENT
BEGIN:VEVENT
DTSTART;TZID=UTC:20190221T183000
DTEND;TZID=UTC:20190221T200000
DTSTAMP:20260423T191622
CREATED:20190117T001709Z
LAST-MODIFIED:20190117T001709Z
UID:1217-1550773800-1550779200@www.raleighcountybeekeepers.com
SUMMARY:RCBCA Monthly Meeting
DESCRIPTION:
URL:https://www.raleighcountybeekeepers.com/event/rcbca-monthly-meeting-8-2-3-3-2-2-3-2/
LOCATION:Raleigh County Board of Education\, 105 Adair Street\, Beckley\, WV\, 25801\, United States
END:VEVENT
BEGIN:VEVENT
DTSTART;TZID=UTC:20190209T080000
DTEND;TZID=UTC:20190209T170000
DTSTAMP:20260423T191622
CREATED:20190117T000632Z
LAST-MODIFIED:20190206T174444Z
UID:1209-1549699200-1549731600@www.raleighcountybeekeepers.com
SUMMARY:West Virginia Beekeepers Association Executive Board Meeting
DESCRIPTION:
URL:https://www.raleighcountybeekeepers.com/event/west-virginia-beekeepers-association-executive-board-meeting-2-2-2/
LOCATION:WV
END:VEVENT
BEGIN:VEVENT
DTSTART;TZID=UTC:20190126T080000
DTEND;TZID=UTC:20190126T170000
DTSTAMP:20260423T191622
CREATED:20190117T001423Z
LAST-MODIFIED:20190117T001423Z
UID:1213-1548489600-1548522000@www.raleighcountybeekeepers.com
SUMMARY:Honeybee Expo
DESCRIPTION:
URL:https://www.raleighcountybeekeepers.com/event/honeybee-expo-2/
LOCATION:WVU Parkersburg\, 300 Campus Drive\, Parkersburg\, WV\, 26104\, United States
END:VEVENT
BEGIN:VEVENT
DTSTART;TZID=America/New_York:20190117T183000
DTEND;TZID=America/New_York:20190117T200000
DTSTAMP:20260423T191622
CREATED:20190117T001540Z
LAST-MODIFIED:20190117T182204Z
UID:1215-1547749800-1547755200@www.raleighcountybeekeepers.com
SUMMARY:RCBCA Monthly Meeting
DESCRIPTION:
URL:https://www.raleighcountybeekeepers.com/event/rcbca-monthly-meeting-1-17-19/
LOCATION:Raleigh County Board of Education\, 105 Adair Street\, Beckley\, WV\, 25801\, United States
END:VEVENT
BEGIN:VEVENT
DTSTART;TZID=UTC:20181220T183000
DTEND;TZID=UTC:20181220T200000
DTSTAMP:20260423T191622
CREATED:20190117T001209Z
LAST-MODIFIED:20190117T001209Z
UID:1211-1545330600-1545336000@www.raleighcountybeekeepers.com
SUMMARY:RCBCA Monthly Meeting - Christmas Party
DESCRIPTION:
URL:https://www.raleighcountybeekeepers.com/event/rcbca-monthly-meeting-8-2-3-3-2-2-2/
LOCATION:Raleigh County Board of Education\, 105 Adair Street\, Beckley\, WV\, 25801\, United States
END:VEVENT
BEGIN:VEVENT
DTSTART;TZID=UTC:20181116T183000
DTEND;TZID=UTC:20181116T200000
DTSTAMP:20260423T191622
CREATED:20190117T000328Z
LAST-MODIFIED:20190117T000328Z
UID:1207-1542393000-1542398400@www.raleighcountybeekeepers.com
SUMMARY:RCBCA Monthly Meeting
DESCRIPTION:
URL:https://www.raleighcountybeekeepers.com/event/rcbca-monthly-meeting-8-2-3-3-2-2/
LOCATION:Raleigh County Board of Education\, 105 Adair Street\, Beckley\, WV\, 25801\, United States
END:VEVENT
BEGIN:VEVENT
DTSTART;TZID=UTC:20181103T080000
DTEND;TZID=UTC:20181103T170000
DTSTAMP:20260423T191622
CREATED:20190117T000051Z
LAST-MODIFIED:20190117T000051Z
UID:1203-1541232000-1541264400@www.raleighcountybeekeepers.com
SUMMARY:West Virginia Beekeepers Association Executive Board Meeting
DESCRIPTION:
URL:https://www.raleighcountybeekeepers.com/event/west-virginia-beekeepers-association-executive-board-meeting-2-2/
LOCATION:WV
END:VEVENT
BEGIN:VEVENT
DTSTART;TZID=UTC:20181018T183000
DTEND;TZID=UTC:20181018T200000
DTSTAMP:20260423T191622
CREATED:20190117T000206Z
LAST-MODIFIED:20190117T000206Z
UID:1205-1539887400-1539892800@www.raleighcountybeekeepers.com
SUMMARY:RCBCA Monthly Meeting
DESCRIPTION:
URL:https://www.raleighcountybeekeepers.com/event/rcbca-monthly-meeting-8-2-3-3-2/
LOCATION:Raleigh County Board of Education\, 105 Adair Street\, Beckley\, WV\, 25801\, United States
END:VEVENT
BEGIN:VEVENT
DTSTART;TZID=UTC:20180920T183000
DTEND;TZID=UTC:20180920T200000
DTSTAMP:20260423T191622
CREATED:20190116T234928Z
LAST-MODIFIED:20190116T234928Z
UID:1201-1537468200-1537473600@www.raleighcountybeekeepers.com
SUMMARY:RCBCA Monthly Meeting
DESCRIPTION:
URL:https://www.raleighcountybeekeepers.com/event/rcbca-monthly-meeting-8-2-3-3/
LOCATION:Raleigh County Board of Education\, 105 Adair Street\, Beckley\, WV\, 25801\, United States
END:VEVENT
BEGIN:VEVENT
DTSTART;VALUE=DATE:20180824
DTEND;VALUE=DATE:20180826
DTSTAMP:20260423T191622
CREATED:20190116T234328Z
LAST-MODIFIED:20190116T234558Z
UID:1196-1535068800-1535241599@www.raleighcountybeekeepers.com
SUMMARY:WV Beekeepers Association Fall Conference
DESCRIPTION:
URL:https://www.raleighcountybeekeepers.com/event/wv-beekeepers-association-fall-conference-2/
LOCATION:Robert H Mollohan Research Center\, Fairmont\, West Virginia
END:VEVENT
BEGIN:VEVENT
DTSTART;TZID=UTC:20180818T080000
DTEND;TZID=UTC:20180818T170000
DTSTAMP:20260423T191622
CREATED:20190116T233446Z
LAST-MODIFIED:20190116T233446Z
UID:1187-1534579200-1534611600@www.raleighcountybeekeepers.com
SUMMARY:Beckley Honey Festival 2018
DESCRIPTION:The Raleigh County Beekeepers Cooperative Association and the Beckley Exhibition Coal Mine/Youth Museum will be working together on an event for National Honey Bee Day. \nThe 2nd Annual Beckley Honey Festival will take place on the third Saturday in August on August 18\, 2018 at the Beckley Exhibition Coal Mine. \nThere will be live honey bee demonstrations\, display tents\, equipment and demonstration hives\, youth activities and area vendors along with the Beckley Exhibition Coal Mine/Youth Museum.
URL:https://www.raleighcountybeekeepers.com/event/beckley-honey-festival-2017-2/
LOCATION:Beckley Exhibition Coal Mine/Youth Museum\, 513 Ewart Avenue\, Beckley\, WV\, 25801\, United States
END:VEVENT
END:VCALENDAR