BEGIN:VCALENDAR
VERSION:2.0
PRODID:-//Raleigh County Beekeepers Cooperative Association - ECPv6.15.20//NONSGML v1.0//EN
CALSCALE:GREGORIAN
METHOD:PUBLISH
X-WR-CALNAME:Raleigh County Beekeepers Cooperative Association
X-ORIGINAL-URL:https://www.raleighcountybeekeepers.com
X-WR-CALDESC:Events for Raleigh County Beekeepers Cooperative Association
REFRESH-INTERVAL;VALUE=DURATION:PT1H
X-Robots-Tag:noindex
X-PUBLISHED-TTL:PT1H
BEGIN:VTIMEZONE
TZID:UTC
BEGIN:STANDARD
TZOFFSETFROM:+0000
TZOFFSETTO:+0000
TZNAME:UTC
DTSTART:20160101T000000
END:STANDARD
END:VTIMEZONE
BEGIN:VTIMEZONE
TZID:America/New_York
BEGIN:DAYLIGHT
TZOFFSETFROM:-0500
TZOFFSETTO:-0400
TZNAME:EDT
DTSTART:20180311T070000
END:DAYLIGHT
BEGIN:STANDARD
TZOFFSETFROM:-0400
TZOFFSETTO:-0500
TZNAME:EST
DTSTART:20181104T060000
END:STANDARD
BEGIN:DAYLIGHT
TZOFFSETFROM:-0500
TZOFFSETTO:-0400
TZNAME:EDT
DTSTART:20190310T070000
END:DAYLIGHT
BEGIN:STANDARD
TZOFFSETFROM:-0400
TZOFFSETTO:-0500
TZNAME:EST
DTSTART:20191103T060000
END:STANDARD
BEGIN:DAYLIGHT
TZOFFSETFROM:-0500
TZOFFSETTO:-0400
TZNAME:EDT
DTSTART:20200308T070000
END:DAYLIGHT
BEGIN:STANDARD
TZOFFSETFROM:-0400
TZOFFSETTO:-0500
TZNAME:EST
DTSTART:20201101T060000
END:STANDARD
END:VTIMEZONE
BEGIN:VEVENT
DTSTART;TZID=UTC:20190209T080000
DTEND;TZID=UTC:20190209T170000
DTSTAMP:20260423T225344
CREATED:20190117T000632Z
LAST-MODIFIED:20190206T174444Z
UID:1209-1549699200-1549731600@www.raleighcountybeekeepers.com
SUMMARY:West Virginia Beekeepers Association Executive Board Meeting
DESCRIPTION:
URL:https://www.raleighcountybeekeepers.com/event/west-virginia-beekeepers-association-executive-board-meeting-2-2-2/
LOCATION:WV
END:VEVENT
BEGIN:VEVENT
DTSTART;TZID=UTC:20190126T080000
DTEND;TZID=UTC:20190126T170000
DTSTAMP:20260423T225344
CREATED:20190117T001423Z
LAST-MODIFIED:20190117T001423Z
UID:1213-1548489600-1548522000@www.raleighcountybeekeepers.com
SUMMARY:Honeybee Expo
DESCRIPTION:
URL:https://www.raleighcountybeekeepers.com/event/honeybee-expo-2/
LOCATION:WVU Parkersburg\, 300 Campus Drive\, Parkersburg\, WV\, 26104\, United States
END:VEVENT
BEGIN:VEVENT
DTSTART;TZID=America/New_York:20190117T183000
DTEND;TZID=America/New_York:20190117T200000
DTSTAMP:20260423T225344
CREATED:20190117T001540Z
LAST-MODIFIED:20190117T182204Z
UID:1215-1547749800-1547755200@www.raleighcountybeekeepers.com
SUMMARY:RCBCA Monthly Meeting
DESCRIPTION:
URL:https://www.raleighcountybeekeepers.com/event/rcbca-monthly-meeting-1-17-19/
LOCATION:Raleigh County Board of Education\, 105 Adair Street\, Beckley\, WV\, 25801\, United States
END:VEVENT
BEGIN:VEVENT
DTSTART;TZID=UTC:20181220T183000
DTEND;TZID=UTC:20181220T200000
DTSTAMP:20260423T225344
CREATED:20190117T001209Z
LAST-MODIFIED:20190117T001209Z
UID:1211-1545330600-1545336000@www.raleighcountybeekeepers.com
SUMMARY:RCBCA Monthly Meeting - Christmas Party
DESCRIPTION:
URL:https://www.raleighcountybeekeepers.com/event/rcbca-monthly-meeting-8-2-3-3-2-2-2/
LOCATION:Raleigh County Board of Education\, 105 Adair Street\, Beckley\, WV\, 25801\, United States
END:VEVENT
BEGIN:VEVENT
DTSTART;TZID=UTC:20181116T183000
DTEND;TZID=UTC:20181116T200000
DTSTAMP:20260423T225344
CREATED:20190117T000328Z
LAST-MODIFIED:20190117T000328Z
UID:1207-1542393000-1542398400@www.raleighcountybeekeepers.com
SUMMARY:RCBCA Monthly Meeting
DESCRIPTION:
URL:https://www.raleighcountybeekeepers.com/event/rcbca-monthly-meeting-8-2-3-3-2-2/
LOCATION:Raleigh County Board of Education\, 105 Adair Street\, Beckley\, WV\, 25801\, United States
END:VEVENT
BEGIN:VEVENT
DTSTART;TZID=UTC:20181103T080000
DTEND;TZID=UTC:20181103T170000
DTSTAMP:20260423T225344
CREATED:20190117T000051Z
LAST-MODIFIED:20190117T000051Z
UID:1203-1541232000-1541264400@www.raleighcountybeekeepers.com
SUMMARY:West Virginia Beekeepers Association Executive Board Meeting
DESCRIPTION:
URL:https://www.raleighcountybeekeepers.com/event/west-virginia-beekeepers-association-executive-board-meeting-2-2/
LOCATION:WV
END:VEVENT
BEGIN:VEVENT
DTSTART;TZID=UTC:20181018T183000
DTEND;TZID=UTC:20181018T200000
DTSTAMP:20260423T225344
CREATED:20190117T000206Z
LAST-MODIFIED:20190117T000206Z
UID:1205-1539887400-1539892800@www.raleighcountybeekeepers.com
SUMMARY:RCBCA Monthly Meeting
DESCRIPTION:
URL:https://www.raleighcountybeekeepers.com/event/rcbca-monthly-meeting-8-2-3-3-2/
LOCATION:Raleigh County Board of Education\, 105 Adair Street\, Beckley\, WV\, 25801\, United States
END:VEVENT
BEGIN:VEVENT
DTSTART;TZID=UTC:20180920T183000
DTEND;TZID=UTC:20180920T200000
DTSTAMP:20260423T225344
CREATED:20190116T234928Z
LAST-MODIFIED:20190116T234928Z
UID:1201-1537468200-1537473600@www.raleighcountybeekeepers.com
SUMMARY:RCBCA Monthly Meeting
DESCRIPTION:
URL:https://www.raleighcountybeekeepers.com/event/rcbca-monthly-meeting-8-2-3-3/
LOCATION:Raleigh County Board of Education\, 105 Adair Street\, Beckley\, WV\, 25801\, United States
END:VEVENT
BEGIN:VEVENT
DTSTART;VALUE=DATE:20180824
DTEND;VALUE=DATE:20180826
DTSTAMP:20260423T225344
CREATED:20190116T234328Z
LAST-MODIFIED:20190116T234558Z
UID:1196-1535068800-1535241599@www.raleighcountybeekeepers.com
SUMMARY:WV Beekeepers Association Fall Conference
DESCRIPTION:
URL:https://www.raleighcountybeekeepers.com/event/wv-beekeepers-association-fall-conference-2/
LOCATION:Robert H Mollohan Research Center\, Fairmont\, West Virginia
END:VEVENT
BEGIN:VEVENT
DTSTART;TZID=UTC:20180818T080000
DTEND;TZID=UTC:20180818T170000
DTSTAMP:20260423T225344
CREATED:20190116T233446Z
LAST-MODIFIED:20190116T233446Z
UID:1187-1534579200-1534611600@www.raleighcountybeekeepers.com
SUMMARY:Beckley Honey Festival 2018
DESCRIPTION:The Raleigh County Beekeepers Cooperative Association and the Beckley Exhibition Coal Mine/Youth Museum will be working together on an event for National Honey Bee Day. \nThe 2nd Annual Beckley Honey Festival will take place on the third Saturday in August on August 18\, 2018 at the Beckley Exhibition Coal Mine. \nThere will be live honey bee demonstrations\, display tents\, equipment and demonstration hives\, youth activities and area vendors along with the Beckley Exhibition Coal Mine/Youth Museum.
URL:https://www.raleighcountybeekeepers.com/event/beckley-honey-festival-2017-2/
LOCATION:Beckley Exhibition Coal Mine/Youth Museum\, 513 Ewart Avenue\, Beckley\, WV\, 25801\, United States
END:VEVENT
BEGIN:VEVENT
DTSTART;TZID=UTC:20180816T183000
DTEND;TZID=UTC:20180816T200000
DTSTAMP:20260423T225344
CREATED:20190116T234732Z
LAST-MODIFIED:20190116T234732Z
UID:1199-1534444200-1534449600@www.raleighcountybeekeepers.com
SUMMARY:RCBCA Monthly Meeting
DESCRIPTION:
URL:https://www.raleighcountybeekeepers.com/event/rcbca-monthly-meeting-8-2-3-2/
LOCATION:Raleigh County Board of Education\, 105 Adair Street\, Beckley\, WV\, 25801\, United States
END:VEVENT
BEGIN:VEVENT
DTSTART;TZID=UTC:20180719T183000
DTEND;TZID=UTC:20180719T200000
DTSTAMP:20260423T225344
CREATED:20190116T234000Z
LAST-MODIFIED:20190116T234000Z
UID:1192-1532025000-1532030400@www.raleighcountybeekeepers.com
SUMMARY:RCBCA Monthly Meeting
DESCRIPTION:
URL:https://www.raleighcountybeekeepers.com/event/rcbca-monthly-meeting-8-2-3/
LOCATION:Raleigh County Board of Education\, 105 Adair Street\, Beckley\, WV\, 25801\, United States
END:VEVENT
BEGIN:VEVENT
DTSTART;TZID=UTC:20180710T173000
DTEND;TZID=UTC:20180710T193000
DTSTAMP:20260423T225344
CREATED:20190116T234135Z
LAST-MODIFIED:20190116T234135Z
UID:1194-1531243800-1531251000@www.raleighcountybeekeepers.com
SUMMARY:RCBCA Steering Committee Meeting (Beckley Honey Festival 2018)
DESCRIPTION:
URL:https://www.raleighcountybeekeepers.com/event/steering-committee-meeting-beckley-honey-festival-2017-3-2/
LOCATION:Raleigh County Board of Education\, 105 Adair Street\, Beckley\, WV\, 25801\, United States
END:VEVENT
BEGIN:VEVENT
DTSTART;TZID=UTC:20180623T103000
DTEND;TZID=UTC:20180623T150000
DTSTAMP:20260423T225344
CREATED:20190116T233132Z
LAST-MODIFIED:20190117T003355Z
UID:1185-1529749800-1529766000@www.raleighcountybeekeepers.com
SUMMARY:RCBCA Monthly Meeting - Workshop & Picnic
DESCRIPTION:
URL:https://www.raleighcountybeekeepers.com/event/rcbca-monthly-meeting-8-2-2/
LOCATION:Peter’s Farm
END:VEVENT
BEGIN:VEVENT
DTSTART;TZID=UTC:20180602T080000
DTEND;TZID=UTC:20180602T170000
DTSTAMP:20260423T225344
CREATED:20190116T233641Z
LAST-MODIFIED:20190116T233641Z
UID:1189-1527926400-1527958800@www.raleighcountybeekeepers.com
SUMMARY:West Virginia Beekeepers Association Executive Board Meeting
DESCRIPTION:
URL:https://www.raleighcountybeekeepers.com/event/west-virginia-beekeepers-association-executive-board-meeting-2/
LOCATION:WV
END:VEVENT
BEGIN:VEVENT
DTSTART;TZID=UTC:20180517T183000
DTEND;TZID=UTC:20180517T200000
DTSTAMP:20260423T225344
CREATED:20190116T232851Z
LAST-MODIFIED:20190116T232851Z
UID:1183-1526581800-1526587200@www.raleighcountybeekeepers.com
SUMMARY:RCBCA Monthly Meeting
DESCRIPTION:
URL:https://www.raleighcountybeekeepers.com/event/rcbca-monthly-meeting-8-2/
LOCATION:Raleigh County Board of Education\, 105 Adair Street\, Beckley\, WV\, 25801\, United States
END:VEVENT
BEGIN:VEVENT
DTSTART;TZID=UTC:20180419T183000
DTEND;TZID=UTC:20180419T200000
DTSTAMP:20260423T225344
CREATED:20180103T011707Z
LAST-MODIFIED:20180103T011707Z
UID:754-1524162600-1524168000@www.raleighcountybeekeepers.com
SUMMARY:RCBCA Monthly Meeting
DESCRIPTION:
URL:https://www.raleighcountybeekeepers.com/event/rcbca-monthly-meeting-8/
LOCATION:Raleigh County Board of Education\, 105 Adair Street\, Beckley\, WV\, 25801\, United States
END:VEVENT
BEGIN:VEVENT
DTSTART;TZID=UTC:20180315T183000
DTEND;TZID=UTC:20180315T200000
DTSTAMP:20260423T225344
CREATED:20180103T011545Z
LAST-MODIFIED:20180103T011545Z
UID:751-1521138600-1521144000@www.raleighcountybeekeepers.com
SUMMARY:RCBCA Monthly Meeting
DESCRIPTION:
URL:https://www.raleighcountybeekeepers.com/event/rcbca-monthly-meeting-7/
LOCATION:Raleigh County Board of Education\, 105 Adair Street\, Beckley\, WV\, 25801\, United States
END:VEVENT
BEGIN:VEVENT
DTSTART;TZID=UTC:20180217T093000
DTEND;TZID=UTC:20180217T143000
DTSTAMP:20260423T225344
CREATED:20180119T034655Z
LAST-MODIFIED:20180119T035326Z
UID:832-1518859800-1518877800@www.raleighcountybeekeepers.com
SUMMARY:Intermediate/Advanced Beekeeping Course
DESCRIPTION:To register please visit – https://www.raleighcountybeekeepers.com/intermediate-advanced/
URL:https://www.raleighcountybeekeepers.com/event/intermediate-advanced-beekeeping-course-2/
LOCATION:Raleigh County Board of Education\, 105 Adair Street\, Beckley\, WV\, 25801\, United States
END:VEVENT
BEGIN:VEVENT
DTSTART;TZID=UTC:20180215T183000
DTEND;TZID=UTC:20180215T200000
DTSTAMP:20260423T225344
CREATED:20180103T011404Z
LAST-MODIFIED:20180103T011404Z
UID:749-1518719400-1518724800@www.raleighcountybeekeepers.com
SUMMARY:RCBCA Monthly Meeting
DESCRIPTION:
URL:https://www.raleighcountybeekeepers.com/event/rcbca-monthly-meeting-6/
LOCATION:Raleigh County Board of Education\, 105 Adair Street\, Beckley\, WV\, 25801\, United States
END:VEVENT
BEGIN:VEVENT
DTSTART;TZID=UTC:20180215T170000
DTEND;TZID=UTC:20180215T183000
DTSTAMP:20260423T225344
CREATED:20180119T032931Z
LAST-MODIFIED:20180119T033025Z
UID:828-1518714000-1518719400@www.raleighcountybeekeepers.com
SUMMARY:WV Beekeepers Association 2018 Spring Conference Planning Committee Meeting
DESCRIPTION:The meeting will be held in Munson Hall.
URL:https://www.raleighcountybeekeepers.com/event/wv-beekeepers-association-2018-spring-conference-planning-committee-meeting-2/
LOCATION:Raleigh County Board of Education\, 105 Adair Street\, Beckley\, WV\, 25801\, United States
END:VEVENT
BEGIN:VEVENT
DTSTART;TZID=UTC:20180210T093000
DTEND;TZID=UTC:20180210T143000
DTSTAMP:20260423T225344
CREATED:20180119T034537Z
LAST-MODIFIED:20180119T035424Z
UID:830-1518255000-1518273000@www.raleighcountybeekeepers.com
SUMMARY:Intermediate/Advanced Beekeeping Course
DESCRIPTION:To register please visit – https://www.raleighcountybeekeepers.com/intermediate-advanced/
URL:https://www.raleighcountybeekeepers.com/event/intermediate-advanced-beekeeping-course/
LOCATION:Raleigh County Board of Education\, 105 Adair Street\, Beckley\, WV\, 25801\, United States
END:VEVENT
BEGIN:VEVENT
DTSTART;TZID=UTC:20180118T183000
DTEND;TZID=UTC:20180118T200000
DTSTAMP:20260423T225344
CREATED:20180102T202942Z
LAST-MODIFIED:20180102T202942Z
UID:742-1516300200-1516305600@www.raleighcountybeekeepers.com
SUMMARY:RCBCA Monthly Meeting
DESCRIPTION:
URL:https://www.raleighcountybeekeepers.com/event/rcbca-monthly-meeting-5/
LOCATION:Raleigh County Board of Education\, 105 Adair Street\, Beckley\, WV\, 25801\, United States
END:VEVENT
BEGIN:VEVENT
DTSTART;TZID=UTC:20180109T170000
DTEND;TZID=UTC:20180109T200000
DTSTAMP:20260423T225344
CREATED:20180102T202809Z
LAST-MODIFIED:20180102T202809Z
UID:740-1515517200-1515528000@www.raleighcountybeekeepers.com
SUMMARY:WV Beekeepers Association 2018 Spring Conference Planning Committee Meeting
DESCRIPTION:The meeting will be held upstairs in the Venari Conference Room.
URL:https://www.raleighcountybeekeepers.com/event/wv-beekeepers-association-2018-spring-conference-planning-committee-meeting/
LOCATION:Raleigh County Board of Education\, 105 Adair Street\, Beckley\, WV\, 25801\, United States
END:VEVENT
BEGIN:VEVENT
DTSTART;TZID=UTC:20180107T130000
DTEND;TZID=UTC:20180107T160000
DTSTAMP:20260423T225344
CREATED:20171231T103034Z
LAST-MODIFIED:20180102T202601Z
UID:734-1515330000-1515340800@www.raleighcountybeekeepers.com
SUMMARY:WV Department of Agriculture Hosts Beginner Beekeeping Classes
DESCRIPTION:BEGINNER BEEKEEPING CLASS PRESENTED BY THE WV DEPARTMENT OF AGRICULTURE \nJAN 7TH\, 14TH\, 21ST\, and 28TH\n \nIf you or a family member are a Veteran\, or are currently serving our country\, please pick up the training information for the Veterans and Warriors to Agriculture Beekeeping Program when you come by Sugar Bottom Farm. This year we are excited that the West Virginia Department of Agriculture has partnered with the Farmer Veterans Coalition under the Homegrown By Hero’s label. \nSUGAR BOTTOM FARM will be hosting A FOUR PART\, FREE TRAINING CLASS to help newcomers into Beekeeping. This class is FREE AND OPEN TO ALL. The Beginner classes are catered to anyone who may be considering Beekeeping as a hobby\, a sideline income\, or even as a business. \n This class will be held from 1pm until 4pm on Sundays JANUARY 7th\, 14TH\, 21ST\, and 28TH. This series of four classes will be taught by Commercial Beekeeper and Apiary owner Eric Grandon of Sugar Bottom Farm. Eric Grandon is also a Regional Apiary Trainer for the West Virginia Dept. of Agriculture’s Veterans and Warriors to Agriculture Program. \n These FREE CLASSES are being held at THE SUMMERSVILLE ARENA AND CONFERENCE CENTER at 3 Armory Way Summersville\, WV\, 26651\n \nRegistration is FREE\, but required and limited to the first 70 to respond. To register for the class\, please email Eric Grandon at egrandon@frontier.com or if you have questions about the class call us at (304) 545-4608. Please leave a message if no answer.
URL:https://www.raleighcountybeekeepers.com/event/734/
LOCATION:Summersvillle Arena & Conference Center
END:VEVENT
BEGIN:VEVENT
DTSTART;TZID=UTC:20180102T080000
DTEND;TZID=UTC:20180102T170000
DTSTAMP:20260423T225344
CREATED:20180102T203537Z
LAST-MODIFIED:20180102T203537Z
UID:744-1514880000-1514912400@www.raleighcountybeekeepers.com
SUMMARY:Honeybee Expo
DESCRIPTION:
URL:https://www.raleighcountybeekeepers.com/event/honeybee-expo/
LOCATION:WVU Parkersburg\, 300 Campus Drive\, Parkersburg\, WV\, 26104\, United States
END:VEVENT
BEGIN:VEVENT
DTSTART;TZID=UTC:20171221T183000
DTEND;TZID=UTC:20171221T200000
DTSTAMP:20260423T225344
CREATED:20170615T194709Z
LAST-MODIFIED:20170615T194709Z
UID:572-1513881000-1513886400@www.raleighcountybeekeepers.com
SUMMARY:RCBCA Monthly Meeting
DESCRIPTION:
URL:https://www.raleighcountybeekeepers.com/event/rcbca-monthly-meeting-4-3-2-2/
LOCATION:Raleigh County Board of Education\, 105 Adair Street\, Beckley\, WV\, 25801\, United States
END:VEVENT
BEGIN:VEVENT
DTSTART;TZID=UTC:20171116T183000
DTEND;TZID=UTC:20171116T200000
DTSTAMP:20260423T225344
CREATED:20170615T194340Z
LAST-MODIFIED:20170615T194340Z
UID:570-1510857000-1510862400@www.raleighcountybeekeepers.com
SUMMARY:RCBCA Monthly Meeting
DESCRIPTION:
URL:https://www.raleighcountybeekeepers.com/event/rcbca-monthly-meeting-4-3-2/
LOCATION:Raleigh County Board of Education\, 105 Adair Street\, Beckley\, WV\, 25801\, United States
END:VEVENT
BEGIN:VEVENT
DTSTART;TZID=UTC:20171019T183000
DTEND;TZID=UTC:20171019T200000
DTSTAMP:20260423T225344
CREATED:20170615T194114Z
LAST-MODIFIED:20170615T194114Z
UID:568-1508437800-1508443200@www.raleighcountybeekeepers.com
SUMMARY:RCBCA Monthly Meeting
DESCRIPTION:
URL:https://www.raleighcountybeekeepers.com/event/rcbca-monthly-meeting-4-3/
LOCATION:Raleigh County Board of Education\, 105 Adair Street\, Beckley\, WV\, 25801\, United States
END:VEVENT
BEGIN:VEVENT
DTSTART;VALUE=DATE:20170922
DTEND;VALUE=DATE:20170924
DTSTAMP:20260423T225344
CREATED:20170615T164107Z
LAST-MODIFIED:20170615T164107Z
UID:557-1506038400-1506211199@www.raleighcountybeekeepers.com
SUMMARY:WV Beekeepers Association Fall Conference
DESCRIPTION:
URL:https://www.raleighcountybeekeepers.com/event/wv-beekeepers-association-fall-conference/
LOCATION:High Tech Center\, Fairmont\, West Virginia
END:VEVENT
END:VCALENDAR